BEGIN:VCALENDAR
VERSION:2.0
PRODID:-//UNICON - ECPv6.6.4.2//NONSGML v1.0//EN
CALSCALE:GREGORIAN
METHOD:PUBLISH
X-WR-CALNAME:UNICON
X-ORIGINAL-URL:https://uniconexed.org
X-WR-CALDESC:Events for UNICON
REFRESH-INTERVAL;VALUE=DURATION:PT1H
X-Robots-Tag:noindex
X-PUBLISHED-TTL:PT1H
BEGIN:VTIMEZONE
TZID:Europe/Stockholm
BEGIN:DAYLIGHT
TZOFFSETFROM:+0100
TZOFFSETTO:+0200
TZNAME:CEST
DTSTART:20250330T010000
END:DAYLIGHT
BEGIN:STANDARD
TZOFFSETFROM:+0200
TZOFFSETTO:+0100
TZNAME:CET
DTSTART:20251026T010000
END:STANDARD
END:VTIMEZONE
BEGIN:VEVENT
DTSTART;VALUE=DATE:20250904
DTEND;VALUE=DATE:20250906
DTSTAMP:20260425T125822
CREATED:20250509T112458Z
LAST-MODIFIED:20250530T161150Z
UID:8784-1756944000-1757116799@uniconexed.org
SUMMARY:UNICON European Meet Up\, September 4-5\, Lyon
DESCRIPTION: CRM Group MeetingThursday May 21st\, 202610 AM EST Join our dynamic community of CRM professionals exploring innovative solutions in executive education technology and strategy. All staff working at UNICON member schools are invited! Co-led by Nuwan Dishan (Cambridge Judge Business School) and Andrea Fiske (Yale School of Management). This Month’s SessionAbout the CRM Group 90+ CRM professionals from UNICON member institutionsTop focus areas: CRM adoption\, training strategies\, reporting & KPIsInteractive session formats: Case studies\, tool demos\, expert Q&AsKey Discussion TopicsCRM adoption & training strategiesLead scoring and routingReporting and performance metricsCross-team collaborationTechnology integrationsTo get your invite and join the group\, email: daniellemacedo@uniconexed.org
URL:https://uniconexed.org/event/unicon-european-meet-up-2025-lyon/
CATEGORIES:European Meet Up
ATTACH;FMTTYPE=image/jpeg:https://uniconexed.org/wp-content/uploads/2025/05/emlyon-European-Meet-Up-UNICON-2025-scaled.jpg
END:VEVENT
END:VCALENDAR