BEGIN:VCALENDAR
VERSION:2.0
PRODID:-//UNICON - ECPv6.6.4.2//NONSGML v1.0//EN
CALSCALE:GREGORIAN
METHOD:PUBLISH
X-ORIGINAL-URL:https://uniconexed.org
X-WR-CALDESC:Events for UNICON
REFRESH-INTERVAL;VALUE=DURATION:PT1H
X-Robots-Tag:noindex
X-PUBLISHED-TTL:PT1H
BEGIN:VTIMEZONE
TZID:UTC
BEGIN:STANDARD
TZOFFSETFROM:+0000
TZOFFSETTO:+0000
TZNAME:UTC
DTSTART:20260101T000000
END:STANDARD
END:VTIMEZONE
BEGIN:VEVENT
DTSTART;VALUE=DATE:20260204
DTEND;VALUE=DATE:20260206
DTSTAMP:20260424T083454
CREATED:20260108T165732Z
LAST-MODIFIED:20260115T155232Z
UID:9178-1770163200-1770335999@uniconexed.org
SUMMARY:UNICON Tech Disruptors Group: Emerging EdTech Coffee Talk
DESCRIPTION: CRM Group MeetingThursday May 21st\, 202610 AM EST Join our dynamic community of CRM professionals exploring innovative solutions in executive education technology and strategy. All staff working at UNICON member schools are invited! Co-led by Nuwan Dishan (Cambridge Judge Business School) and Andrea Fiske (Yale School of Management). This Month’s SessionAbout the CRM Group 90+ CRM professionals from UNICON member institutionsTop focus areas: CRM adoption\, training strategies\, reporting & KPIsInteractive session formats: Case studies\, tool demos\, expert Q&AsKey Discussion TopicsCRM adoption & training strategiesLead scoring and routingReporting and performance metricsCross-team collaborationTechnology integrationsTo get your invite and join the group\, email: daniellemacedo@uniconexed.org
URL:https://uniconexed.org/event/event-tech-disruptors-group-webinar/
CATEGORIES:Online
ATTACH;FMTTYPE=image/png:https://uniconexed.org/wp-content/uploads/2025/10/Tech.png
END:VEVENT
END:VCALENDAR