BEGIN:VCALENDAR
VERSION:2.0
PRODID:-//UNICON - ECPv6.6.4.2//NONSGML v1.0//EN
CALSCALE:GREGORIAN
METHOD:PUBLISH
X-ORIGINAL-URL:https://uniconexed.org
X-WR-CALDESC:Events for UNICON
REFRESH-INTERVAL;VALUE=DURATION:PT1H
X-Robots-Tag:noindex
X-PUBLISHED-TTL:PT1H
BEGIN:VTIMEZONE
TZID:UTC
BEGIN:STANDARD
TZOFFSETFROM:+0000
TZOFFSETTO:+0000
TZNAME:UTC
DTSTART:20250101T000000
END:STANDARD
END:VTIMEZONE
BEGIN:VEVENT
DTSTART;VALUE=DATE:20251204
DTEND;VALUE=DATE:20251205
DTSTAMP:20260424T144239
CREATED:20251111T165830Z
LAST-MODIFIED:20251203T135455Z
UID:9097-1764806400-1764892799@uniconexed.org
SUMMARY:CRM in Executive Education: UNICON CRM Group Meeting
DESCRIPTION: CRM Group MeetingThursday May 21st\, 202610 AM EST Join our dynamic community of CRM professionals exploring innovative solutions in executive education technology and strategy. All staff working at UNICON member schools are invited! Co-led by Nuwan Dishan (Cambridge Judge Business School) and Andrea Fiske (Yale School of Management). This Month’s SessionAbout the CRM Group 90+ CRM professionals from UNICON member institutionsTop focus areas: CRM adoption\, training strategies\, reporting & KPIsInteractive session formats: Case studies\, tool demos\, expert Q&AsKey Discussion TopicsCRM adoption & training strategiesLead scoring and routingReporting and performance metricsCross-team collaborationTechnology integrationsTo get your invite and join the group\, email: daniellemacedo@uniconexed.org
URL:https://uniconexed.org/event/crm-in-executive-education-unicon-crm-group-meeting/
CATEGORIES:Online
ATTACH;FMTTYPE=image/jpeg:https://uniconexed.org/wp-content/uploads/2025/10/crm.jpg
END:VEVENT
END:VCALENDAR