BEGIN:VCALENDAR
VERSION:2.0
PRODID:-//UNICON - ECPv6.6.4.2//NONSGML v1.0//EN
CALSCALE:GREGORIAN
METHOD:PUBLISH
X-WR-CALNAME:UNICON
X-ORIGINAL-URL:https://uniconexed.org
X-WR-CALDESC:Events for UNICON
REFRESH-INTERVAL;VALUE=DURATION:PT1H
X-Robots-Tag:noindex
X-PUBLISHED-TTL:PT1H
BEGIN:VTIMEZONE
TZID:UTC
BEGIN:STANDARD
TZOFFSETFROM:+0000
TZOFFSETTO:+0000
TZNAME:UTC
DTSTART:20250101T000000
END:STANDARD
END:VTIMEZONE
BEGIN:VEVENT
DTSTART;VALUE=DATE:20250520
DTEND;VALUE=DATE:20250523
DTSTAMP:20260420T193501
CREATED:20240820T120924Z
LAST-MODIFIED:20250508T153348Z
UID:8235-1747699200-1747958399@uniconexed.org
SUMMARY:2025 UNICON Directors' Conference\, The American University in Cairo
DESCRIPTION:Tech Disruptors Group — Upcoming Webinar for UNICON members (all staff invited)\n\n  AI in B2B Account Management\n\n  \n    Speaker: Tom Ryan\n   \n\n  \n    🕐 Wednesday\, 18 March 2026\, 6:00–7:00 pm CET\n    🕐 Thursday\, 19 March 2026\, 11:00 am–12:00 pm CET\n   \n\n  \n    To register\, please email\n      \n        tarynstreed@uniconexed.org\n      .\n    \n   \n\n  \n\n    \n      \n    \n\n    \n      \n        This session explores how AI can support executive education teams across the B2B account management journey — from targeting and stakeholder engagement to proposals\, delivery\, impact\, and relationship growth.\n       \n\n      \n        Speaker bio: Tom Ryan is an experienced management educator and consultant who passionately believes that business schools and other providers must provide a compelling solution to their clients’ job to be done if they are to succeed in a competitive market. He has written a number of papers for UNICON covering the implications for schools of new alternative providers\, on partnering effectively with intermediaries and on how schools can demonstrate the business case for executive education programmes. He has worked as a consultant\, leader and educator in a variety of schools and other organisations over many years.\n       \n\n      \n        \n          Explore UNICON research and download papers →
URL:https://uniconexed.org/event/2025-unicon-directors-conference-may-20-22-2025/
LOCATION:American University in Cairo\, Cairo\, 11835\, Egypt
CATEGORIES:Directors' Conference
ATTACH;FMTTYPE=image/jpeg:https://uniconexed.org/wp-content/uploads/2022/01/American-University-in-Cairo-scaled.jpeg
END:VEVENT
END:VCALENDAR